BEGIN:VCALENDAR
VERSION:2.0
PRODID:GIGPRESS 2.0 WORDPRESS PLUGIN
CALSCALE:GREGORIAN
X-WR-TIMEZONE:Etc/GMT
METHOD:PUBLISH
BEGIN:VTIMEZONE
TZID:GMT
BEGIN:STANDARD
DTSTART:20071028T010000
TZOFFSETTO:+0000
TZOFFSETFROM:+0000
END:STANDARD
END:VTIMEZONE
BEGIN:VEVENT
SUMMARY:John Reischman & the Jaybirds at Butchart Gardens
DESCRIPTION:All Ages
LOCATION:Butchart Gardens\, Brentwood Bay\, CA
UID:20260731T200000Z-271-eliwest@gmail.com
URL:https://thejaybirds.com
DTSTART;VALUE=DATE-TIME;TZID=GMT:20260731T200000Z
DTEND;VALUE=DATE-TIME;TZID=GMT:20260731T200000Z
DTSTAMP:20260423T013843Z
END:VEVENT
END:VCALENDAR