BEGIN:VCALENDAR
VERSION:2.0
PRODID:GIGPRESS 2.0 WORDPRESS PLUGIN
CALSCALE:GREGORIAN
X-WR-TIMEZONE:Etc/GMT
METHOD:PUBLISH
BEGIN:VTIMEZONE
TZID:GMT
BEGIN:STANDARD
DTSTART:20071028T010000
TZOFFSETTO:+0000
TZOFFSETFROM:+0000
END:STANDARD
END:VTIMEZONE
BEGIN:VEVENT
SUMMARY:John Reischman & the Jaybirds at Green Mountain Bluegrass & Roots Festival
DESCRIPTION:All Ages
LOCATION:Green Mountain Bluegrass & Roots Festival\, Hunter Park 410 Hunter Park Road Manchester Center\, Manchester\, US
UID:20260814-272-eliwest@gmail.com
URL:https://thejaybirds.com
DTSTART;VALUE=DATE;TZID=GMT:20260814
DTEND;VALUE=DATE;TZID=GMT:20260814
DTSTAMP:20260423T013739Z
END:VEVENT
END:VCALENDAR