BEGIN:VCALENDAR
VERSION:2.0
PRODID:GIGPRESS 2.0 WORDPRESS PLUGIN
CALSCALE:GREGORIAN
X-WR-TIMEZONE:Etc/GMT
METHOD:PUBLISH
BEGIN:VTIMEZONE
TZID:GMT
BEGIN:STANDARD
DTSTART:20071028T010000
TZOFFSETTO:+0000
TZOFFSETFROM:+0000
END:STANDARD
END:VTIMEZONE
BEGIN:VEVENT
SUMMARY:John Reischman & the Jaybirds at Moose N’ Fiddle Festival
DESCRIPTION:All Ages
LOCATION:Moose N’ Fiddle Festival\, Caliper Lake Provincial Park\, Nestor Falls\, CA
UID:20260821-273-eliwest@gmail.com
URL:https://thejaybirds.com
DTSTART;VALUE=DATE;TZID=GMT:20260821
DTEND;VALUE=DATE;TZID=GMT:20260821
DTSTAMP:20260423T013938Z
END:VEVENT
END:VCALENDAR