BEGIN:VCALENDAR
VERSION:2.0
PRODID:GIGPRESS 2.0 WORDPRESS PLUGIN
CALSCALE:GREGORIAN
X-WR-TIMEZONE:Etc/GMT
METHOD:PUBLISH
BEGIN:VTIMEZONE
TZID:GMT
BEGIN:STANDARD
DTSTART:20071028T010000
TZOFFSETTO:+0000
TZOFFSETFROM:+0000
END:STANDARD
END:VTIMEZONE
BEGIN:VEVENT
SUMMARY:John Reischman & the Jaybirds at Pickin’ in the Pines
DESCRIPTION:All Ages
LOCATION:Pickin’ in the Pines\, Pepsi Amphitheatre \, 250 Garrison Road\, Flagstaff\, US
UID:20260920-275-eliwest@gmail.com
URL:https://thejaybirds.com
DTSTART;VALUE=DATE;TZID=GMT:20260920
DTEND;VALUE=DATE;TZID=GMT:20260920
DTSTAMP:20260423T014006Z
END:VEVENT
END:VCALENDAR